BEGIN:VCALENDAR
VERSION:2.0
PRODID:-//ChamberMaster//Event Calendar 2.0//EN
METHOD:PUBLISH
X-PUBLISHED-TTL:P3D
REFRESH-INTERVAL:P3D
CALSCALE:GREGORIAN
BEGIN:VEVENT
DTSTART:20120413T230000Z
DTEND:20120414T020000Z
X-MICROSOFT-CDO-ALLDAYEVENT:FALSE
SUMMARY:2012 CLS Dinner
DESCRIPTION:
X-ALT-DESC;FMTTYPE=text/html:
LOCATION:Country Club of Peoria
UID:e.1773.404
SEQUENCE:3
DTSTAMP:20260421T072615Z
URL:http://peoriachamber.chambermaster.com/events/details/2012-cls-dinner-04-13-2012-404
END:VEVENT

END:VCALENDAR
