BEGIN:VCALENDAR
VERSION:2.0
PRODID:-//ChamberMaster//Event Calendar 2.0//EN
METHOD:PUBLISH
X-PUBLISHED-TTL:P3D
REFRESH-INTERVAL:P3D
CALSCALE:GREGORIAN
BEGIN:VEVENT
DTSTART:20250924T160000Z
DTEND:20250924T170000Z
X-MICROSOFT-CDO-ALLDAYEVENT:FALSE
SUMMARY:Make Better Decisions with Analytics - Grow with Google
DESCRIPTION:Learn best practices and analyze trends about how customers engage with your business online\, then turn these insights into well-informed\, actionable decisions. In this session we'll cover:   An introduction to Google Analytics.   Creating and understanding reports.   Making goals.   Using Analytics with other Google tools. Presented by: Maria Elena Duron\, Championing the mission "Helping businesses GET FOUND\," Maria Elena Duron has helped over 12\,400 small businesses grow with Google by simplifying digital marketing\, search visibility\, and AI-powered strategies. Recognized by the Texas Governor's Office and commissioned by the Grow with Google Program\, she is an industry leader in SEO\, AEO (Answer Engine Optimization)\, and online visibility strategies. Maria Elena doesn't just teach theory she delivers practical\, actionable training designed to help businesses stand out in search\, connect with the right customers\, and turn visibility into revenue. Whether you're a brick-and-mortar business\, a service provider\, or an online brand\, Maria Elena ensures that your marketing works smarter\, not harder.
X-ALT-DESC;FMTTYPE=text/html:Learn best practices and analyze trends about how customers engage with your business online\, then turn these insights into well-informed\, actionable decisions. In this session we&rsquo\;ll cover: &bull\; An introduction to Google Analytics. &bull\; Creating and understanding reports. &bull\; Making goals. &bull\; Using Analytics with other Google tools. Presented by: Maria Elena Duron\, Championing the mission &quot\;Helping businesses GET FOUND\,&quot\; Maria Elena Duron has helped over 12\,400 small businesses grow with Google by simplifying digital marketing\, search visibility\, and AI-powered strategies. Recognized by the Texas Governor&rsquo\;s Office and commissioned by the Grow with Google Program\, she is an industry leader in SEO\, AEO (Answer Engine Optimization)\, and online visibility strategies. Maria Elena doesn&rsquo\;t just teach theory&mdash\;she delivers practical\, actionable training designed to help businesses stand out in search\, connect with the right customers\, and turn visibility into revenue. Whether you&#39\;re a brick-and-mortar business\, a service provider\, or an online brand\, Maria Elena ensures that your marketing works smarter\, not harder.
LOCATION:Online Webinar
UID:e.1773.22619
SEQUENCE:3
DTSTAMP:20260421T222055Z
URL:http://peoriachamber.chambermaster.com/events/details/make-better-decisions-with-analytics-grow-with-google-22619
END:VEVENT

END:VCALENDAR
