BEGIN:VCALENDAR
VERSION:2.0
PRODID:-//ChamberMaster//Event Calendar 2.0//EN
METHOD:PUBLISH
X-PUBLISHED-TTL:P3D
REFRESH-INTERVAL:P3D
CALSCALE:GREGORIAN
BEGIN:VEVENT
DTSTART:20111201T180000Z
DTEND:20111201T190000Z
X-MICROSOFT-CDO-ALLDAYEVENT:FALSE
SUMMARY:Speed Networking Dec.
DESCRIPTION:
X-ALT-DESC;FMTTYPE=text/html:
LOCATION:Heartland Partnership
UID:e.1773.357
SEQUENCE:3
DTSTAMP:20260422T045047Z
URL:http://peoriachamber.chambermaster.com/events/details/speed-networking-dec-12-01-2011-357
END:VEVENT

END:VCALENDAR
